BEGIN:VCALENDAR
VERSION:2.0
PRODID:icalendar-ruby
CALSCALE:GREGORIAN
METHOD:PUBLISH
BEGIN:VEVENT
DTSTAMP:20260421T222201Z
UID:6-1623532@southpymatuningchurch.com
DTSTART:20261018T143000Z
DTEND:20261018T153000Z
CLASS:PUBLIC
CREATED:20260421T172512
DESCRIPTION:Worship
LAST-MODIFIED:20260421T172512
LOCATION:
SUMMARY:Worship
URL;VALUE=URI:https://southpymatuningcommunity.church/events/worship/2026-1
 0-18
END:VEVENT
END:VCALENDAR
