BEGIN:VCALENDAR
VERSION:2.0
PRODID:icalendar-ruby
CALSCALE:GREGORIAN
METHOD:PUBLISH
BEGIN:VEVENT
DTSTAMP:20260422T001916Z
UID:6-1624445@southpymatuningchurch.com
DTSTART:20261025T143000Z
DTEND:20261025T153000Z
CLASS:PUBLIC
CREATED:20260421T200352
DESCRIPTION:Worship
LAST-MODIFIED:20260421T200352
LOCATION:
SUMMARY:Worship
URL;VALUE=URI:https://southpymatuningcommunity.church/events/worship/2026-1
 0-25
END:VEVENT
END:VCALENDAR
