BEGIN:VCALENDAR
VERSION:2.0
PRODID:icalendar-ruby
CALSCALE:GREGORIAN
METHOD:PUBLISH
BEGIN:VEVENT
DTSTAMP:20260422T022334Z
UID:6-1624446@southpymatuningchurch.com
DTSTART:20261101T153000Z
DTEND:20261101T163000Z
CLASS:PUBLIC
CREATED:20260421T200352
DESCRIPTION:Worship
LAST-MODIFIED:20260421T200352
LOCATION:
SUMMARY:Worship
URL;VALUE=URI:https://southpymatuningcommunity.church/events/worship/2026-1
 1-01
END:VEVENT
END:VCALENDAR
